BEGIN:VCALENDAR
VERSION:2.0
PRODID:ShowClix//ShowClix//EN
BEGIN:VTIMEZONE
TZID:Africa/Johannesburg
END:VTIMEZONE
BEGIN:VEVENT
DTSTART;TZID=Africa/Johannesburg:20260426T100000
SUMMARY:Special Screening of: Deep Listening - The Story of Pauline Oliveros
DESCRIPTION:Show details available at https://tickets.tixsa.co.za/event/deep-listening
LOCATION:The Bioscope at 44 Stanley.
GEO:-26.200000;28.083300
END:VEVENT
END:VCALENDAR
