BEGIN:VCALENDAR
VERSION:2.0
PRODID:ShowClix//ShowClix//EN
BEGIN:VTIMEZONE
TZID:Africa/Johannesburg
END:VTIMEZONE
BEGIN:VEVENT
DTSTART;TZID=Africa/Johannesburg:20260829T150000
SUMMARY:Dinner for One/Sopper vir Een
DESCRIPTION:Wys besonderhede wat by https://tickets.tixsa.co.za/event/dinner-for-one-sopper-vir-een beskikbaar is.
LOCATION:AfriForum Teater
GEO:-25.706900;28.229400
END:VEVENT
END:VCALENDAR
