BEGIN:VCALENDAR
VERSION:2.0
PRODID:ShowClix//ShowClix//EN
BEGIN:VTIMEZONE
TZID:Africa/Johannesburg
END:VTIMEZONE
BEGIN:VEVENT
DTSTART;TZID=Africa/Johannesburg:20260528T180000
SUMMARY:Mel die Storieverteller - Internet Sensasie by Kleinkaap Centurion
DESCRIPTION:Show details available at https://tickets.tixsa.co.za/event/kleinkaapmelstorieverteller28Mei
LOCATION:Kleinkaap Boutique Hotel
GEO:-25.841033;28.177345
END:VEVENT
END:VCALENDAR
