BEGIN:VCALENDAR
VERSION:2.0
PRODID:ShowClix//ShowClix//EN
BEGIN:VTIMEZONE
TZID:Africa/Johannesburg
END:VTIMEZONE
BEGIN:VEVENT
DTSTART;TZID=Africa/Johannesburg:20260802T150000
SUMMARY:&rsquo;n Skatkis uit ons musiekverlede
DESCRIPTION:Wys besonderhede wat by https://tickets.tixsa.co.za/event/n-skatkis-uit-ons-musiekverlede beskikbaar is.
LOCATION:AfriForum Teater
GEO:-25.706900;28.229400
END:VEVENT
END:VCALENDAR
