BEGIN:VCALENDAR
VERSION:2.0
PRODID:ShowClix//ShowClix//EN
BEGIN:VTIMEZONE
TZID:Africa/Johannesburg
END:VTIMEZONE
BEGIN:VEVENT
DTSTART;TZID=Africa/Johannesburg:20260725T150000
SUMMARY:Richard van der Westhuizen &ndash; 40
DESCRIPTION:Wys besonderhede wat by https://tickets.tixsa.co.za/event/richard-van-der-westhuizen-40 beskikbaar is.
LOCATION:AfriForum Teater
GEO:-25.706900;28.229400
END:VEVENT
END:VCALENDAR
