BEGIN:VCALENDAR
VERSION:2.0
PRODID:ShowClix//ShowClix//EN
BEGIN:VTIMEZONE
TZID:Africa/Johannesburg
END:VTIMEZONE
BEGIN:VEVENT
DTSTART;TZID=Africa/Johannesburg:20260425T110000
DTEND;TZID=Africa/Johannesburg:20260425T235500
SUMMARY:THE HANGOUT F3ST 3
DESCRIPTION:Show details available at https://tickets.tixsa.co.za/event/the-hangout-f3st-3
LOCATION:German Club Edenvale
GEO:-26.133995;28.159954
END:VEVENT
END:VCALENDAR
